BEGIN:VCALENDAR
VERSION:2.0
PRODID:-//Bergrheinfelder Gewerbeverein - ECPv6.15.20//NONSGML v1.0//EN
CALSCALE:GREGORIAN
METHOD:PUBLISH
X-ORIGINAL-URL:https://bergrheinfelder-gewerbeverein.de
X-WR-CALDESC:Veranstaltungen für Bergrheinfelder Gewerbeverein
REFRESH-INTERVAL;VALUE=DURATION:PT1H
X-Robots-Tag:noindex
X-PUBLISHED-TTL:PT1H
BEGIN:VTIMEZONE
TZID:UTC
BEGIN:STANDARD
TZOFFSETFROM:+0000
TZOFFSETTO:+0000
TZNAME:UTC
DTSTART:20250101T000000
END:STANDARD
END:VTIMEZONE
BEGIN:VEVENT
DTSTART;TZID=UTC:20260611T200000
DTEND;TZID=UTC:20260611T220000
DTSTAMP:20260425T002948
CREATED:20260424T121415Z
LAST-MODIFIED:20260424T121415Z
UID:861-1781208000-1781215200@bergrheinfelder-gewerbeverein.de
SUMMARY:Orchestra Mondo
DESCRIPTION:KONZERT \nTANGO MEETS GYPSI \nMit „Tango meets Gypsy: La Vie Bohème“ entführt ORCHESTRA MONDO seine Zuhörer in eine längst vergangene und doch unvergessliche Welt. Das Ensemble – mit Akkordeon\, Gitarre\, Kontrabass und Perkussion – erzählt von den Träumen und Wünschen der Bohème\, von der Leidenschaft\, die in jeder Note mitschwingt und von den kreativen Seelen\, die zwischen Freiheit und Sehnsucht tanzen. Dieses Konzert ist mehr als Musik – tauchen Sie ein in diese faszinierende Welt und lassen Sie sich von der Musik der Bohème verzaubern.
URL:https://bergrheinfelder-gewerbeverein.de/event/orchestra-mondo/
LOCATION:Zehnthof Bergrheinfeld\, Hauptstraße 38\, Bergrheinfeld\, Bayern / Unterfranken\, 97493\, Germany
CATEGORIES:Bergrheinfelder Kulturwoche
END:VEVENT
END:VCALENDAR