BEGIN:VCALENDAR
VERSION:2.0
PRODID:-//Bergrheinfelder Gewerbeverein - ECPv6.15.20//NONSGML v1.0//EN
CALSCALE:GREGORIAN
METHOD:PUBLISH
X-WR-CALNAME:Bergrheinfelder Gewerbeverein
X-ORIGINAL-URL:https://bergrheinfelder-gewerbeverein.de
X-WR-CALDESC:Veranstaltungen für Bergrheinfelder Gewerbeverein
REFRESH-INTERVAL;VALUE=DURATION:PT1H
X-Robots-Tag:noindex
X-PUBLISHED-TTL:PT1H
BEGIN:VTIMEZONE
TZID:UTC
BEGIN:STANDARD
TZOFFSETFROM:+0000
TZOFFSETTO:+0000
TZNAME:UTC
DTSTART:20250101T000000
END:STANDARD
END:VTIMEZONE
BEGIN:VEVENT
DTSTART;TZID=UTC:20261231T180000
DTEND;TZID=UTC:20270101T010000
DTSTAMP:20260424T123228
CREATED:20260129T124325Z
LAST-MODIFIED:20260129T124344Z
UID:617-1798740000-1798765200@bergrheinfelder-gewerbeverein.de
SUMMARY:Schneebar
DESCRIPTION:Schneebar des Skiclub Bergrheinfeld
URL:https://bergrheinfelder-gewerbeverein.de/event/schneebar/
LOCATION:Zehnthof\, Hauptstraße 36\, Bergrheinfeld\, Bayern / Unterfranken\, 97493\, Germany
END:VEVENT
END:VCALENDAR