BEGIN:VCALENDAR
VERSION:2.0
PRODID:-//Bergrheinfelder Gewerbeverein - ECPv6.15.20//NONSGML v1.0//EN
CALSCALE:GREGORIAN
METHOD:PUBLISH
X-ORIGINAL-URL:https://bergrheinfelder-gewerbeverein.de
X-WR-CALDESC:Veranstaltungen für Bergrheinfelder Gewerbeverein
REFRESH-INTERVAL;VALUE=DURATION:PT1H
X-Robots-Tag:noindex
X-PUBLISHED-TTL:PT1H
BEGIN:VTIMEZONE
TZID:UTC
BEGIN:STANDARD
TZOFFSETFROM:+0000
TZOFFSETTO:+0000
TZNAME:UTC
DTSTART:20250101T000000
END:STANDARD
END:VTIMEZONE
BEGIN:VEVENT
DTSTART;TZID=UTC:20260814T150000
DTEND;TZID=UTC:20260814T200000
DTSTAMP:20260424T044326
CREATED:20260209T134312Z
LAST-MODIFIED:20260209T135856Z
UID:690-1786719600-1786737600@bergrheinfelder-gewerbeverein.de
SUMMARY:Rotweinnacht mit Tanzabend
DESCRIPTION:
URL:https://bergrheinfelder-gewerbeverein.de/event/rotweinnacht-mit-tanzabend/
LOCATION:Weingut Uwe Geßner\, Kirchsteig 2\, Bergrheinfeld - Garstadt\, Bayern / Unterfranken\, 97493
ORGANIZER;CN="Weingut Uwe Ge%C3%9Fner":MAILTO:weingut-gessner@t-online.de
END:VEVENT
BEGIN:VEVENT
DTSTART;TZID=UTC:20260815T100000
DTEND;TZID=UTC:20260815T170000
DTSTAMP:20260424T044326
CREATED:20260209T140311Z
LAST-MODIFIED:20260209T140311Z
UID:703-1786788000-1786813200@bergrheinfelder-gewerbeverein.de
SUMMARY:Rotweintag
DESCRIPTION:
URL:https://bergrheinfelder-gewerbeverein.de/event/rotweintag/
LOCATION:Weingut Uwe Geßner\, Kirchsteig 2\, Bergrheinfeld - Garstadt\, Bayern / Unterfranken\, 97493
ORGANIZER;CN="Weingut Uwe Ge%C3%9Fner":MAILTO:weingut-gessner@t-online.de
END:VEVENT
BEGIN:VEVENT
DTSTART;TZID=UTC:20260821T150000
DTEND;TZID=UTC:20260824T235900
DTSTAMP:20260424T044326
CREATED:20260129T124551Z
LAST-MODIFIED:20260129T124551Z
UID:621-1787324400-1787615940@bergrheinfelder-gewerbeverein.de
SUMMARY:Kirchweih Bergrheinfeld
DESCRIPTION:Kirchweih Bergrheinfeld
URL:https://bergrheinfelder-gewerbeverein.de/event/kirchweih-bergrheinfeld/
LOCATION:Bergrheinfeld Holderhecke\, Holderhecke 4\, Bergrheinfeld\, Bayern\, 97493\, Germany
END:VEVENT
END:VCALENDAR