BEGIN:VCALENDAR
VERSION:2.0
PRODID:-//Bergrheinfelder Gewerbeverein - ECPv6.15.20//NONSGML v1.0//EN
CALSCALE:GREGORIAN
METHOD:PUBLISH
X-ORIGINAL-URL:https://bergrheinfelder-gewerbeverein.de
X-WR-CALDESC:Veranstaltungen für Bergrheinfelder Gewerbeverein
REFRESH-INTERVAL;VALUE=DURATION:PT1H
X-Robots-Tag:noindex
X-PUBLISHED-TTL:PT1H
BEGIN:VTIMEZONE
TZID:UTC
BEGIN:STANDARD
TZOFFSETFROM:+0000
TZOFFSETTO:+0000
TZNAME:UTC
DTSTART:20250101T000000
END:STANDARD
END:VTIMEZONE
BEGIN:VEVENT
DTSTART;TZID=UTC:20260501T100000
DTEND;TZID=UTC:20260501T180000
DTSTAMP:20260423T234427
CREATED:20260209T133337Z
LAST-MODIFIED:20260209T133337Z
UID:675-1777629600-1777658400@bergrheinfelder-gewerbeverein.de
SUMMARY:Saisoneröffnung im Winzerhof mit Silvanertag
DESCRIPTION:
URL:https://bergrheinfelder-gewerbeverein.de/event/saisoneroeffnung-im-winzerhof-mit-silvanertag/
LOCATION:Weingut Uwe Geßner\, Kirchsteig 2\, Bergrheinfeld - Garstadt\, Bayern / Unterfranken\, 97493
ORGANIZER;CN="Weingut Uwe Ge%C3%9Fner":MAILTO:weingut-gessner@t-online.de
END:VEVENT
BEGIN:VEVENT
DTSTART;TZID=UTC:20260503T080000
DTEND;TZID=UTC:20260503T180000
DTSTAMP:20260423T234427
CREATED:20260129T103143Z
LAST-MODIFIED:20260413T104831Z
UID:604-1777795200-1777831200@bergrheinfelder-gewerbeverein.de
SUMMARY:Autofreier Sonntag
DESCRIPTION:18. Autofreier Sonntag für Genießer\n\nUngestört vom Autoverkehr kann am Sonntag\, 3. Mai 2026 beim 18. Autofreien Sonntag im Fränkischen Weinland von 10:00 bis 18:00 Uhr die reizvolle Landschaft entlang des Mains per Rad oder Inliner entdeckt werden. \nDer autofreie „Kurs“ führt von den kulturellen Schätzen im Schweinfurter Land bis hin zu den Weinbergen bei Wipfeld sowie Unter- und Obereisenheim und wieder retour. Jeder kann nach Lust und Laune in die Strecke einsteigen und sein Tagespensum fahren. \nBeteiligte Orte:\nBergrheinfeld\, Garstadt\, Grafenrheinfeld\, Heidenfeld\, Hirschfeld\, Kloster St. Ludwig\, Obereisenheim\, Stammheim\, Untereisenheim\, Wipfeld. \nAktionspunkte und Raststationen:  \n\nUntereisenheim: Weinfest mit Frühschoppen und Musik\nObereisenheim: Gasthof „Zum Schiff“ ab 11:30 geöffnet\, Wassersportclub Obereisenheim bietet Motorbootfahrten für Kinder sowie Essen und Trinken\nWipfeld: großes Essensangebot sowie Infostände an der Mainfähre. Am Follinaplatz gibt es Fisch von der Sportfischervereinigung sowie diverses Essen vom MainBäcker Heinrich. Außerdemwerden diverse Speisen und Getränke an den Mainterassen sowie beim BierGenussWerk geboten.\nGarstadt: Hofschoppfenfest beim Weingut Uwe Geßner. Essen und Trinken mit Musik beim Weinbau Mauder.\nBergrheinfeld: Fahrradausstellung und Pannendienst bei Zweirad Seifert. Tag der Offenen Gartentüre bei der SoLaWi Schweinfurt.\nGrafenrheinfeld: Infostände von der ILE Schweinfurter Mainbogen\, den Maltesern sowie von Bündnis 90/DIE GRÜNEN. Diverse Essen bei Tiziano Mercato und Gießy´s Radlergarten.\nHeidenfeld: Verschiedene Vereine verkaufen Getränke und Essen. Das Landratsamt Schweinfurt präsentiert die Kampagne „Miteinander im Verkehr“.\nHirschfeld: Italienische Spezialitäten am Sportheim sowie Wikingerspieße an der Kirche\nKloster St. Ludwig: Verkauf und Führungen\nStammheim: Hoffest beim Weingut Ziegler und Einkehrmöglichkeit beim Gasthaus zur Schmiede.\n\nAllgemeine Hinweise zur Strecke\, den Mainfähren & Parkplätzen: \n\nStreckenprofil: Rundkurs-Strecke mit 36 km\, asphaltierte Straßen\, ebene Wegstreckenführung\nDie Mainfähren Obereisenheim und Wipfeld sind an diesem Tag für Radfahrer und Fußgänger kostenlos.\nIn Grafenrheinfeld und in Untereisenheim stehen für Anreisende mit dem PKW größere Parkplätze als Strecken-Einstiegsmöglichkeit zur Verfügung.\n\nHinweise für ein entspanntes Miteinander auf der Strecke: \nTrotz motorfreier Strecke gilt weiterhin die Straßenverkehrsordnung. Es wird empfohlen\, zur eigenen Sicherheit einen Fahrradhelm und die entsprechende Schutzkleidung für Inlineskater zu tragen. Den Anweisungen der Hilfskräfte ist Folge zu leisten. Ebenso ist die jeweils rechte Fahrbahnseite zu nutzen\, da die Strecke in beide Richtungen befahren werden kann. An einigen Stellen ist ein Überquerungsverkehr für PKW zugelassen – bitte hier besondere Vorsicht walten lassen. \nDer Tourismusverband Fränkisches Weinland\, die Tourist-Information Schweinfurt 360°\, die Landkreise Schweinfurt und Würzburg sowie die beteiligten Gemeinden übernehmen keine Haftung für Unfälle oder Personenschäden. \n \nVerkehrshinweise: \nAm Sonntag\, 3. Mai 2026 werden folgende Straßen von 9:00 bis 19:00 Uhr für den Kfz-Verkehr gesperrt sein: \n\nDie WÜ 62 und SW 1 von der Fähre Obereisenheim über Stammheim\, Hirschfeld\, Heidenfeld bis Röthlein\nDie St 2277 von Röthlein über Grafenrheinfeld bis Bergrheinfeld Einmündung Ortsstraße Im Keilgarten\nIn Bergrheinfeld die Ortsstraßen: Im Keilgarten\, Jahnstraße\, Flurweg bis zur Einmündung in St 2270\nBergrheinfeld: Die St 2270 von Einmündung Flurweg bis Abzweigung in SW 22\nDie SW 22 ab St 2270 über Garstadt\, Dächheim\, Wipfeld – folgend die WÜ 57 bis Obereisenheim\nDie Ortsdurchfahrten von Grafenrheinfeld\, Röthlein\, Wipfeld und Garstadt sind während dieser Zeit gesperrt.\nDie Mainfähren Wipfeld und Obereisenheim sind am Autofreien Sonntag für den motorisierten Verkehr gesperrt.\n\nEs wird örtlich umgeleitet. Ortskundige werden gebeten\, diese Strecken weiträumig zu umfahren.
URL:https://bergrheinfelder-gewerbeverein.de/event/autofreier-sonntag/
LOCATION:Verkaufsoffener Sonntag\, Hauptstraße\, Bergrheinfeld\, Bayern / Unterfranken\, 97493\, Germany
END:VEVENT
BEGIN:VEVENT
DTSTART;TZID=UTC:20260503T100000
DTEND;TZID=UTC:20260503T170000
DTSTAMP:20260423T234427
CREATED:20260209T133512Z
LAST-MODIFIED:20260209T133512Z
UID:678-1777802400-1777827600@bergrheinfelder-gewerbeverein.de
SUMMARY:Autofreier Sonntag mit Hofschoppenfest
DESCRIPTION:
URL:https://bergrheinfelder-gewerbeverein.de/event/autofreier-sonntag-mit-hofschoppenfest/
LOCATION:Weingut Uwe Geßner\, Kirchsteig 2\, Bergrheinfeld - Garstadt\, Bayern / Unterfranken\, 97493
CATEGORIES:Autofreier Sonntag,Gewerbemarkt
ORGANIZER;CN="Weingut Uwe Ge%C3%9Fner":MAILTO:weingut-gessner@t-online.de
END:VEVENT
BEGIN:VEVENT
DTSTART;TZID=UTC:20260514T100000
DTEND;TZID=UTC:20260514T170000
DTSTAMP:20260423T234427
CREATED:20260209T140417Z
LAST-MODIFIED:20260209T140417Z
UID:705-1778752800-1778778000@bergrheinfelder-gewerbeverein.de
SUMMARY:Christi Himmelfahrt mit traditionellem Vatertags-Fest
DESCRIPTION:
URL:https://bergrheinfelder-gewerbeverein.de/event/christi-himmelfahrt-mit-traditionellem-vatertags-fest/
LOCATION:Weingut Uwe Geßner\, Kirchsteig 2\, Bergrheinfeld - Garstadt\, Bayern / Unterfranken\, 97493
ORGANIZER;CN="Weingut Uwe Ge%C3%9Fner":MAILTO:weingut-gessner@t-online.de
END:VEVENT
BEGIN:VEVENT
DTSTART;TZID=UTC:20260525T100000
DTEND;TZID=UTC:20260525T170000
DTSTAMP:20260423T234427
CREATED:20260209T133719Z
LAST-MODIFIED:20260209T133719Z
UID:682-1779703200-1779728400@bergrheinfelder-gewerbeverein.de
SUMMARY:Pfingstmontag Hofschoppenfest mit Spargel zum Mittagstisch
DESCRIPTION:
URL:https://bergrheinfelder-gewerbeverein.de/event/pfingstmontag-hofschoppenfest-mit-spargel-zum-mittagstisch/
LOCATION:Weingut Uwe Geßner\, Kirchsteig 2\, Bergrheinfeld - Garstadt\, Bayern / Unterfranken\, 97493
ORGANIZER;CN="Weingut Uwe Ge%C3%9Fner":MAILTO:weingut-gessner@t-online.de
END:VEVENT
END:VCALENDAR