BEGIN:VCALENDAR
VERSION:2.0
PRODID:-//Bergrheinfelder Gewerbeverein - ECPv6.15.20//NONSGML v1.0//EN
CALSCALE:GREGORIAN
METHOD:PUBLISH
X-ORIGINAL-URL:https://bergrheinfelder-gewerbeverein.de
X-WR-CALDESC:Veranstaltungen für Bergrheinfelder Gewerbeverein
REFRESH-INTERVAL;VALUE=DURATION:PT1H
X-Robots-Tag:noindex
X-PUBLISHED-TTL:PT1H
BEGIN:VTIMEZONE
TZID:UTC
BEGIN:STANDARD
TZOFFSETFROM:+0000
TZOFFSETTO:+0000
TZNAME:UTC
DTSTART:20250101T000000
END:STANDARD
END:VTIMEZONE
BEGIN:VEVENT
DTSTART;TZID=UTC:20260313T000000
DTEND;TZID=UTC:20260313T235959
DTSTAMP:20260423T233811
CREATED:20260209T135209Z
LAST-MODIFIED:20260209T142502Z
UID:684-1773360000-1773446399@bergrheinfelder-gewerbeverein.de
SUMMARY:offene Weinprobe
DESCRIPTION:Anmeldung unter 097226131
URL:https://bergrheinfelder-gewerbeverein.de/event/offene-weinprobe-3/
LOCATION:Weingut Uwe Geßner\, Kirchsteig 2\, Bergrheinfeld - Garstadt\, Bayern / Unterfranken\, 97493
ORGANIZER;CN="Weingut Uwe Ge%C3%9Fner":MAILTO:weingut-gessner@t-online.de
END:VEVENT
BEGIN:VEVENT
DTSTART;TZID=UTC:20260319T230000
DTEND;TZID=UTC:20260323T225959
DTSTAMP:20260423T233811
CREATED:20260209T133040Z
LAST-MODIFIED:20260317T174038Z
UID:671-1773961200-1774306799@bergrheinfelder-gewerbeverein.de
SUMMARY:Heckenwirtschaft
DESCRIPTION:
URL:https://bergrheinfelder-gewerbeverein.de/event/heckenwirtschaft/
LOCATION:Weingut Uwe Geßner\, Kirchsteig 2\, Bergrheinfeld - Garstadt\, Bayern / Unterfranken\, 97493
CATEGORIES:Weinprobe
ORGANIZER;CN="Weingut Uwe Ge%C3%9Fner":MAILTO:weingut-gessner@t-online.de
END:VEVENT
BEGIN:VEVENT
DTSTART;TZID=UTC:20260327T000000
DTEND;TZID=UTC:20260329T235959
DTSTAMP:20260423T233811
CREATED:20260209T133150Z
LAST-MODIFIED:20260209T133150Z
UID:673-1774569600-1774828799@bergrheinfelder-gewerbeverein.de
SUMMARY:Heckenwirtschaft
DESCRIPTION:
URL:https://bergrheinfelder-gewerbeverein.de/event/heckenwirtschaft-2/
LOCATION:Weingut Uwe Geßner\, Kirchsteig 2\, Bergrheinfeld - Garstadt\, Bayern / Unterfranken\, 97493
END:VEVENT
END:VCALENDAR