BEGIN:VCALENDAR
VERSION:2.0
PRODID:-//Bergrheinfelder Gewerbeverein - ECPv6.15.20//NONSGML v1.0//EN
CALSCALE:GREGORIAN
METHOD:PUBLISH
X-ORIGINAL-URL:https://bergrheinfelder-gewerbeverein.de
X-WR-CALDESC:Veranstaltungen für Bergrheinfelder Gewerbeverein
REFRESH-INTERVAL;VALUE=DURATION:PT1H
X-Robots-Tag:noindex
X-PUBLISHED-TTL:PT1H
BEGIN:VTIMEZONE
TZID:UTC
BEGIN:STANDARD
TZOFFSETFROM:+0000
TZOFFSETTO:+0000
TZNAME:UTC
DTSTART:20250101T000000
END:STANDARD
END:VTIMEZONE
BEGIN:VEVENT
DTSTART;TZID=UTC:20261212T090000
DTEND;TZID=UTC:20261212T100000
DTSTAMP:20260424T141636
CREATED:20260129T123753Z
LAST-MODIFIED:20260129T123753Z
UID:610-1797066000-1797069600@bergrheinfelder-gewerbeverein.de
SUMMARY:Weihnachtsbaum Verkauf
DESCRIPTION:CSU Ortsverein Christbaum Verkauf
URL:https://bergrheinfelder-gewerbeverein.de/event/weihnachtsbaum-verkauf/
LOCATION:Zehnthof\, Hauptstraße 36\, Bergrheinfeld\, Bayern / Unterfranken\, 97493\, Germany
ORGANIZER;CN="CSU Ortsverband":MAILTO:bluemoon288@web.de
END:VEVENT
END:VCALENDAR