BEGIN:VCALENDAR
VERSION:2.0
PRODID:-//Bergrheinfelder Gewerbeverein - ECPv6.15.20//NONSGML v1.0//EN
CALSCALE:GREGORIAN
METHOD:PUBLISH
X-ORIGINAL-URL:https://bergrheinfelder-gewerbeverein.de
X-WR-CALDESC:Veranstaltungen für Bergrheinfelder Gewerbeverein
REFRESH-INTERVAL;VALUE=DURATION:PT1H
X-Robots-Tag:noindex
X-PUBLISHED-TTL:PT1H
BEGIN:VTIMEZONE
TZID:UTC
BEGIN:STANDARD
TZOFFSETFROM:+0000
TZOFFSETTO:+0000
TZNAME:UTC
DTSTART:20250101T000000
END:STANDARD
END:VTIMEZONE
BEGIN:VEVENT
DTSTART;TZID=UTC:20261206T100000
DTEND;TZID=UTC:20261206T170000
DTSTAMP:20260424T111222
CREATED:20260129T123936Z
LAST-MODIFIED:20260129T123958Z
UID:614-1796551200-1796576400@bergrheinfelder-gewerbeverein.de
SUMMARY:Adventsmärktle
DESCRIPTION:Adventsmärktle
URL:https://bergrheinfelder-gewerbeverein.de/event/adventsmaerktle/
LOCATION:Zehnthof\, Hauptstraße 36\, Bergrheinfeld\, Bayern / Unterfranken\, 97493\, Germany
CATEGORIES:Weihnachtsmarkt
END:VEVENT
END:VCALENDAR