BEGIN:VCALENDAR
VERSION:2.0
PRODID:-//Bergrheinfelder Gewerbeverein - ECPv6.15.20//NONSGML v1.0//EN
CALSCALE:GREGORIAN
METHOD:PUBLISH
X-WR-CALNAME:Bergrheinfelder Gewerbeverein
X-ORIGINAL-URL:https://bergrheinfelder-gewerbeverein.de
X-WR-CALDESC:Veranstaltungen für Bergrheinfelder Gewerbeverein
REFRESH-INTERVAL;VALUE=DURATION:PT1H
X-Robots-Tag:noindex
X-PUBLISHED-TTL:PT1H
BEGIN:VTIMEZONE
TZID:UTC
BEGIN:STANDARD
TZOFFSETFROM:+0000
TZOFFSETTO:+0000
TZNAME:UTC
DTSTART:20250101T000000
END:STANDARD
END:VTIMEZONE
BEGIN:VEVENT
DTSTART;TZID=UTC:20260613T180000
DTEND;TZID=UTC:20260614T220000
DTSTAMP:20260425T022319
CREATED:20260424T121859Z
LAST-MODIFIED:20260424T121859Z
UID:865-1781373600-1781474400@bergrheinfelder-gewerbeverein.de
SUMMARY:Brunnenfest
DESCRIPTION:Der Musikverein Bergrheinfeld lädt zum traditionellen Brunnenfest im Zehnthof ein. Den Auftakt macht dabei der Tanzabend am Samstag. Beginn ist um 18 Uhr\, ab 20 Uhr spielt die Akustik-Rockband G-String. Am Sonntag ist ab 10 Uhr Frühschoppen mit den Rheinfelder Musikanten. Nachmittags genießen Sie die gemütliche Atmosphäre und beste musikalische Unterhaltung mit dem Jugendblasorchester Berchluft (15 Uhr) und der Blaskapelle Mönchstockheim (16 Uhr). Der Eintritt ist frei. Alle Einnahmen kommen der Vereinsarbeit zu Gute. Dank gilt allen ehrenamtlichen Helferinnen und Helfern\, die dieses ganz besondere Fest ermöglichen.
URL:https://bergrheinfelder-gewerbeverein.de/event/brunnenfest/
LOCATION:Zehnthof Bergrheinfeld\, Hauptstraße 38\, Bergrheinfeld\, Bayern / Unterfranken\, 97493\, Germany
CATEGORIES:Bergrheinfelder Kulturwoche
ORGANIZER;CN="Gemeindebibliothek Bergrheinfeld":MAILTO:kultur@bergrheinfeld.de
END:VEVENT
END:VCALENDAR