BEGIN:VCALENDAR
VERSION:2.0
PRODID:-//Bergrheinfelder Gewerbeverein - ECPv6.15.20//NONSGML v1.0//EN
CALSCALE:GREGORIAN
METHOD:PUBLISH
X-ORIGINAL-URL:https://bergrheinfelder-gewerbeverein.de
X-WR-CALDESC:Veranstaltungen für Bergrheinfelder Gewerbeverein
REFRESH-INTERVAL;VALUE=DURATION:PT1H
X-Robots-Tag:noindex
X-PUBLISHED-TTL:PT1H
BEGIN:VTIMEZONE
TZID:UTC
BEGIN:STANDARD
TZOFFSETFROM:+0000
TZOFFSETTO:+0000
TZNAME:UTC
DTSTART:20250101T000000
END:STANDARD
END:VTIMEZONE
BEGIN:VEVENT
DTSTART;TZID=UTC:20260609T200000
DTEND;TZID=UTC:20260609T200000
DTSTAMP:20260424T160451
CREATED:20260424T115219Z
LAST-MODIFIED:20260424T115720Z
UID:855-1781035200-1781035200@bergrheinfelder-gewerbeverein.de
SUMMARY:Rena Schwarz
DESCRIPTION:Rena ist KEINE Märchentante\, vielmehr räumt sie die Märchen so richtig auf! Sind Märchen heute überhaupt noch zeitgemäß? Irgendwie schon: überall allein-erziehende Könige\, PatchworkFamilien mit Stiefmüttern mit Halbgeschwistern… Und die Prinzessin hat überhaupt immer den langweiligsten Job und muss am Schluss den heiraten\, den der König aussucht – und wenn`s der Frosch ist! Es sind geschickt inszenierte Gedanken\, unterhaltsam und zugleich mit Tiefgang\, unterbrochen von liebenswert-witzigen und bitterbösen Liedern.
URL:https://bergrheinfelder-gewerbeverein.de/event/rena-schwarz/
LOCATION:Zehnthof Bergrheinfeld\, Hauptstraße 38\, Bergrheinfeld\, Bayern / Unterfranken\, 97493\, Germany
CATEGORIES:Bergrheinfelder Kulturwoche
ORGANIZER;CN="Gemeindebibliothek Bergrheinfeld":MAILTO:kultur@bergrheinfeld.de
END:VEVENT
END:VCALENDAR