BEGIN:VCALENDAR
VERSION:2.0
PRODID:-//Bergrheinfelder Gewerbeverein - ECPv6.15.20//NONSGML v1.0//EN
CALSCALE:GREGORIAN
METHOD:PUBLISH
X-WR-CALNAME:Bergrheinfelder Gewerbeverein
X-ORIGINAL-URL:https://bergrheinfelder-gewerbeverein.de
X-WR-CALDESC:Veranstaltungen für Bergrheinfelder Gewerbeverein
REFRESH-INTERVAL;VALUE=DURATION:PT1H
X-Robots-Tag:noindex
X-PUBLISHED-TTL:PT1H
BEGIN:VTIMEZONE
TZID:UTC
BEGIN:STANDARD
TZOFFSETFROM:+0000
TZOFFSETTO:+0000
TZNAME:UTC
DTSTART:20250101T000000
END:STANDARD
END:VTIMEZONE
BEGIN:VEVENT
DTSTART;TZID=UTC:20260608T200000
DTEND;TZID=UTC:20260608T220000
DTSTAMP:20260424T141140
CREATED:20260424T115040Z
LAST-MODIFIED:20260424T115855Z
UID:853-1780948800-1780956000@bergrheinfelder-gewerbeverein.de
SUMMARY:Wulli & Sonja
DESCRIPTION:Wenn ein Abend voller Songs und Geschichten dich wie gebannt auf deinen Stuhl fesselt und du und am liebsten bleiben möchtest\, dann warst du bei Wulli & Sonja. Sie schreiben Songs über das Leben\, die Liebe und den ganz normalen Wahnsinn\, mal zum Lachen\, mal zum Schmunzeln und manchmal ist auch ein Tränenkullerer dabei. Sie servieren Geschichten garniert mit ungewollter Stand-Up-Comedy und jeder Menge Gänsehautmomenten. Freu dich auf einen Abend\, in den du dich – wie in ein warmes Bett – einfach fallen lassen kannst.
URL:https://bergrheinfelder-gewerbeverein.de/event/wulli-sonja/
LOCATION:Zehnthof Bergrheinfeld\, Hauptstraße 38\, Bergrheinfeld\, Bayern / Unterfranken\, 97493\, Germany
CATEGORIES:Bergrheinfelder Kulturwoche
ORGANIZER;CN="Gemeindebibliothek Bergrheinfeld":MAILTO:kultur@bergrheinfeld.de
END:VEVENT
END:VCALENDAR