BEGIN:VCALENDAR
VERSION:2.0
PRODID:-//Bergrheinfelder Gewerbeverein - ECPv6.15.20//NONSGML v1.0//EN
CALSCALE:GREGORIAN
METHOD:PUBLISH
X-ORIGINAL-URL:https://bergrheinfelder-gewerbeverein.de
X-WR-CALDESC:Veranstaltungen für Bergrheinfelder Gewerbeverein
REFRESH-INTERVAL;VALUE=DURATION:PT1H
X-Robots-Tag:noindex
X-PUBLISHED-TTL:PT1H
BEGIN:VTIMEZONE
TZID:UTC
BEGIN:STANDARD
TZOFFSETFROM:+0000
TZOFFSETTO:+0000
TZNAME:UTC
DTSTART:20250101T000000
END:STANDARD
END:VTIMEZONE
BEGIN:VEVENT
DTSTART;TZID=UTC:20260412T080000
DTEND;TZID=UTC:20260412T150000
DTSTAMP:20260423T234845
CREATED:20260129T102952Z
LAST-MODIFIED:20260331T134811Z
UID:602-1775980800-1776006000@bergrheinfelder-gewerbeverein.de
SUMMARY:Gewerbemarkt Bergrheinfeld
DESCRIPTION:Bergrheinfelder Gewerbemarkt\nam Sonntag den 12.04.2026\nBei Zweirad Seifert und Amrhein lohnt sich ein Besuch der Kaffeebars – deren Einnahmen kommen den Kindergärten St. Anton und St. Bartholomäus zugute. Zusätzlich sorgen traditionelle Marktstände in den Straßen und am Festplatz „Wad“ für Marktatmosphäre. \nAuch die örtlichen Geschäfte bieten zahlreiche Aktionen:\nDas Café und die Bäckerei Galm verwöhnen mit traditionellen Backwaren. PaPasa italienische Feinkost präsentiert „Bella Italia“ mit Prosecco- und Weinverkostung sowie Pizza. Bei Charly’s Sinnesstudio gibt es eine umfassende Visionix-Sehanalyse und einen kostenlosen Hörtest. Das Reisebüro Völk lädt mit Gewinnspiel\, Kuchenbar und Aktionen für Groß und Klein ein. \nDer Holzmarkt Hock & Munz präsentiert sein Sortiment aus Türen\, Bodenbelägen und Holzdecken. Bei Amrhein gibt es neben dem bewährten Werkmarkt Informationen und Tipps zur Akkutechnik in der Gartenpflege und im Kommunalbereich. Albrechts Catering sorgt für kulinarische Genüsse. \nBei Zweirad Seifert dreht sich alles ums Fahrrad: E-Bikes und Bio-Bikes können Probe gefahren werden\, Fachpersonal und Werksvertreter beraten vor Ort. Zudem warten reduzierte Sondermodelle. Informationen zu Fahrrad-Versicherungen gibt es ebenso wie Einblicke von Deutsche Dienstrad zum Fahrradleasing. Das beliebte Ponyreiten startet hier in der Mainstraße. \nRottmann Catering & Grill lockt mit Grillspezialitäten\, während die traditionelle Kaffeebar der Kindergärten bestens versorgt. In der Goethestraße präsentieren sich außerdem Kärcher und Stil\, der Anhängerspezialist Humbau r sowie NE Solartechnik. \nFür Stimmung sorgen Bergluft und der Musikverein Bergrheinfeld auf dem Gelände der Firma Amrhein. Live-Musik gibt es außerdem im Vereinsheim der Eigenheimer. \nAttraktionen:\n\nüber 15 Geschäfte in Bergrheinfeld haben geöffnet \ntraditionelle Marktstände\nHubschrauber Rundflüge (Start Fa. Amrhein)\nModell Truck Show (Start Fa. Amrhein) \nPony reiten (Start Zweirad Seifert)\nKaffeebar zugunsten der Kindergärten St. Anton und St. Bartholomäus und Tierheim Schwebheim (Zweirad Seifert + Fa. Amrhein + Reisebüro Völk)\nBergluft u. Musikverein Bergrheinfeld (Fa. Amrhein)\n\ngeöffnete Geschäfte:\n\nCafe und Bäckerei Galm\, – Hauptstraße\, Traditionsbackwaren \nPaPaSa – italienische Feinkost\, Hauptstraße\, Proseccoverkauf\, ital. Wein- u. Bierverkauf\, Pizza vom Steinofen\, 10% Rabatt auf Ihren Einkauf\nHock & Munz – Schweinfurter Straße\, Türen\, Bodenbeläge u- Holzdeckenausstellung\nCharly’s Sinnesstudio – Schweinfurter Straße\, Visionix Seh-Analyse\, Hörtest\, Sehtest \nReisebüro Völk – Schweinfurter Straße\, Slush-Eis\, Glitzer Tattoos\, Haarsträhnen\, Gewinnspiel\, Kaffee + Kuchenbar zugunsten des Tierheims\nWeingut Gessner – Goethestraße\, Ausschank von Rot- u. Weißweinen aus eigenem Anbau\, Geschenkkörbe\nNE-Solartechnik – Goethestraße\, Beratung f. Photovoltaik u. erneuerbare Energie\nZweirad Seifert – Mainstraße\, Testfahrten\, fachkundige Beratung durch Werksvertreter\, Kaffeebar u. Grillstand\nAmrhein Garten u. Kommunaltechnik – Goethestraße\, Werkmarkt\, große Garten-Kommunalgeräte-Ausstellung\, Kaffeebar u. Grillstand\nRottmann Catering + Grill – Mainstraße\, Grillspezialitäten\, Bratwürste\nDeutsche Dienstrad – Mainstraße\, Leasing\nLinexo Fahrradversicherung – Mainstraße\nFa. Kärcher – Goethestraße\, Reinigungsgeräte mit Vorführung\nFa. Stihl – Goethestraße\, Vorführungen vom kompletten Verkaufsprogramm \nFa. Humbaur Anhänger – Goethestraße
URL:https://bergrheinfelder-gewerbeverein.de/event/gewerbemarkt-bergrheinfeld/
LOCATION:Verkaufsoffener Sonntag\, Hauptstraße\, Bergrheinfeld\, Bayern / Unterfranken\, 97493\, Germany
CATEGORIES:Gewerbemarkt
ATTACH;FMTTYPE=image/jpeg:https://bergrheinfelder-gewerbeverein.de/wp-content/uploads/2026/01/Sonntag-klein.jpg
END:VEVENT
BEGIN:VEVENT
DTSTART;TZID=UTC:20260412T100000
DTEND;TZID=UTC:20260412T170000
DTSTAMP:20260423T234845
CREATED:20260327T153109Z
LAST-MODIFIED:20260327T192909Z
UID:803-1775988000-1776013200@bergrheinfelder-gewerbeverein.de
SUMMARY:Fa. Amrhein -Frühjahrsmarkt
DESCRIPTION:Fa. Amrhein – Frühjahrsmarkt
URL:https://bergrheinfelder-gewerbeverein.de/event/fruehjahrsmarkt/
LOCATION:Amrhein\, Goethestr. 4\, Bergrheinfeld\, Bayern\, 97493\, Germany
CATEGORIES:Gewerbemarkt
ORGANIZER;CN="Amrhein":MAILTO:info@amrhein.de
END:VEVENT
BEGIN:VEVENT
DTSTART;TZID=UTC:20260412T100000
DTEND;TZID=UTC:20260412T170000
DTSTAMP:20260423T234845
CREATED:20260327T153611Z
LAST-MODIFIED:20260327T153611Z
UID:807-1775988000-1776013200@bergrheinfelder-gewerbeverein.de
SUMMARY:NE - Solartechnik
DESCRIPTION:NE-Solartechnik GmbH & Co KG – Goethestraße\, – Photovoltaik-Ausstellungs-Zelt sowie Beratung für Energieunabhängigkeit im Haushalt. Attraktion: Energiefahrrad \nEnergiefahrrad  Das „Energiefahrrad“ vermittelt über das Erleben körperlicher Anstrengung ein Verständnis für den Wert von technischer Energie und fördert so spielend Bewusstsein gegenüber Verbrauch und Verschwendung von Energie und Ressourcen. \n\nEs gibt für jede(n) Fahrer/Fahrerin eine kleine Belohnung.
URL:https://bergrheinfelder-gewerbeverein.de/event/ne-solartechnik/
LOCATION:Göthestraße\, Göthe-Str.\, Bergrheinfeld\, Bayern\, 97493\, Germany
CATEGORIES:Gewerbemarkt
END:VEVENT
BEGIN:VEVENT
DTSTART;TZID=UTC:20260412T120000
DTEND;TZID=UTC:20260412T170000
DTSTAMP:20260423T234845
CREATED:20260304T094911Z
LAST-MODIFIED:20260317T174606Z
UID:751-1775995200-1776013200@bergrheinfelder-gewerbeverein.de
SUMMARY:Reisebüro Völk - Tolle Aktionen
DESCRIPTION:Beratung von 12 – 17 Uhr \nKaffee und Kuchenbar Erlöse zugunsten des Tierheims \nSlush-Eis \nGlitzertattoos / Haarsträhnen \nTolles Gewinnspiel
URL:https://bergrheinfelder-gewerbeverein.de/event/reisebuero-voelk/
LOCATION:Reisebüro VÖLK\, Schweinfurter Str. 135\, Bergrheinfeld\, Bayern / Unterfranken\, 97493\, Germany
CATEGORIES:Gewerbemarkt
ATTACH;FMTTYPE=image/png:https://bergrheinfelder-gewerbeverein.de/wp-content/uploads/2026/03/Reisebuero-Voelk-e1772618721417.png
ORGANIZER;CN="Reiseb%C3%BCro V%C3%96LK":MAILTO:info@reisebuero-voelk.de
END:VEVENT
END:VCALENDAR