BEGIN:VCALENDAR
VERSION:2.0
PRODID:-//Bergrheinfelder Gewerbeverein - ECPv6.15.20//NONSGML v1.0//EN
CALSCALE:GREGORIAN
METHOD:PUBLISH
X-WR-CALNAME:Bergrheinfelder Gewerbeverein
X-ORIGINAL-URL:https://bergrheinfelder-gewerbeverein.de
X-WR-CALDESC:Veranstaltungen für Bergrheinfelder Gewerbeverein
REFRESH-INTERVAL;VALUE=DURATION:PT1H
X-Robots-Tag:noindex
X-PUBLISHED-TTL:PT1H
BEGIN:VTIMEZONE
TZID:UTC
BEGIN:STANDARD
TZOFFSETFROM:+0000
TZOFFSETTO:+0000
TZNAME:UTC
DTSTART:20250101T000000
END:STANDARD
END:VTIMEZONE
BEGIN:VEVENT
DTSTART;TZID=UTC:20260410T000000
DTEND;TZID=UTC:20260410T235959
DTSTAMP:20260423T234753
CREATED:20260209T132901Z
LAST-MODIFIED:20260209T132901Z
UID:669-1775779200-1775865599@bergrheinfelder-gewerbeverein.de
SUMMARY:Offene Weinprobe
DESCRIPTION:Anmeldung unter 09722 6131
URL:https://bergrheinfelder-gewerbeverein.de/event/offene-weinprobe/
LOCATION:Weingut Uwe Geßner\, Kirchsteig 2\, Bergrheinfeld - Garstadt\, Bayern / Unterfranken\, 97493
CATEGORIES:Weinprobe
END:VEVENT
END:VCALENDAR