BEGIN:VCALENDAR
VERSION:2.0
PRODID:-//Bergrheinfelder Gewerbeverein - ECPv6.15.20//NONSGML v1.0//EN
CALSCALE:GREGORIAN
METHOD:PUBLISH
X-ORIGINAL-URL:https://bergrheinfelder-gewerbeverein.de
X-WR-CALDESC:Veranstaltungen für Bergrheinfelder Gewerbeverein
REFRESH-INTERVAL;VALUE=DURATION:PT1H
X-Robots-Tag:noindex
X-PUBLISHED-TTL:PT1H
BEGIN:VTIMEZONE
TZID:UTC
BEGIN:STANDARD
TZOFFSETFROM:+0000
TZOFFSETTO:+0000
TZNAME:UTC
DTSTART:20250101T000000
END:STANDARD
END:VTIMEZONE
BEGIN:VEVENT
DTSTART;TZID=UTC:20260327T000000
DTEND;TZID=UTC:20260329T235959
DTSTAMP:20260424T011308
CREATED:20260209T133150Z
LAST-MODIFIED:20260209T133150Z
UID:673-1774569600-1774828799@bergrheinfelder-gewerbeverein.de
SUMMARY:Heckenwirtschaft
DESCRIPTION:
URL:https://bergrheinfelder-gewerbeverein.de/event/heckenwirtschaft-2/
LOCATION:Weingut Uwe Geßner\, Kirchsteig 2\, Bergrheinfeld - Garstadt\, Bayern / Unterfranken\, 97493
END:VEVENT
END:VCALENDAR